BEGIN:VCALENDAR
VERSION:2.0
PRODID:-//Shakti Chandra - ECPv6.15.20//NONSGML v1.0//EN
CALSCALE:GREGORIAN
METHOD:PUBLISH
X-ORIGINAL-URL:https://shaktichandra.com
X-WR-CALDESC:Events for Shakti Chandra
REFRESH-INTERVAL;VALUE=DURATION:PT1H
X-Robots-Tag:noindex
X-PUBLISHED-TTL:PT1H
BEGIN:VTIMEZONE
TZID:UTC
BEGIN:STANDARD
TZOFFSETFROM:+0000
TZOFFSETTO:+0000
TZNAME:UTC
DTSTART:20250101T000000
END:STANDARD
END:VTIMEZONE
BEGIN:VEVENT
DTSTART;TZID=UTC:20260321T180000
DTEND;TZID=UTC:20260321T210000
DTSTAMP:20260422T112102
CREATED:20150210T133305Z
LAST-MODIFIED:20260218T233028Z
UID:268-1774116000-1774126800@shaktichandra.com
SUMMARY:Spring Equinox Women’s Circle
DESCRIPTION:[vc_row][vc_column][vc_column_text css=””]Cost: donation based (recommended $30) PayPal/venmo/cashapp: @ sierragrishaber \nZelle: sierragrish26@yahoo.com \nSIGN UP\n \n  \nSPRING EQUINOX WOMEN’S CIRCLE (Donation Based) \n\nCacao\, Ecstatic Dance\, Sisterhood\, & Celebration!!!\nSaturday March 21st 6-9pm\n\nALL women are welcome to join us in celebration of the spring equinox! The spring equinox is a sacred time of rebirth & renewal. As new life begins to emerge throughout the earth\, so does within our bodies. As the flowers begin to bloom\, new versions of ourselves begin to come to life. This equinox represents new beginnings – The start to a new story & a brighter version of ourselves. After the long\, restful introspection of winter\, our energy now begins to awaken. This is a time to plant new seeds of intention. What am I transforming? Who am I becoming? On March 20th (equinox) the earth falls into perfect balance. The time of day & night become equal. The sun & moon dance in harmony & our hearts open to welcome balance within our being. Lets celebrate this new beginning together! Uniting in sisterhood\, guided by the wisdom of sacred cacao & dancing to honor the change of season & awakening within! Come as you are! No dance experience needed! I look forward to celebrating with you! \nThis is a donation based event with a recommended donation of $30 to support your facilitator and cost of supplies. Give what you can. No donation will be turned down. Honor what suits you in your current state of life! \nPayment Options: \n\nPaypal/Venmo/Cashapp: @ Sierragrishaber\nZelle: Sierragrish26@yahoo.com\nOr cash in person\n\nWhat to bring: \n\nJournal & pen\nMug for cacao\nAlter item (optional)\nDance props/flow toys (optional)\nWater\nAn open heart & mind!\n\n[/vc_column_text][/vc_column][/vc_row]
URL:https://shaktichandra.com/event/spring-equinox-womens-circle/
LOCATION:Shala Living Yoga\, 412 W Boone Ave\, Spokane\, WA\, 99207\, United States
CATEGORIES:Women's Circle
ATTACH;FMTTYPE=image/jpeg:https://shaktichandra.com/wp-content/uploads/2015/02/spring-equinox-womens-circle-1-570-737.jpg
ORGANIZER;CN="Sierra Grishaber":MAILTO:info@shaktichandra.com
END:VEVENT
BEGIN:VEVENT
DTSTART;TZID=UTC:20260321T180000
DTEND;TZID=UTC:20260321T210000
DTSTAMP:20260422T112102
CREATED:20260416T175740Z
LAST-MODIFIED:20260416T175839Z
UID:7133-1774116000-1774126800@shaktichandra.com
SUMMARY:Women’s Circle - HEALING IN SISTERHOOD
DESCRIPTION:[vc_row][vc_column][vc_column_text] \n\n  \n\n[/vc_column_text][/vc_column][/vc_row][vc_row][vc_column][vc_column_text css=””] \nCost: donation-based (recommended $30) PayPal/venmo/cashapp: @ sierragrishaber \nZelle: sierragrish26@yahoo.com \nSIGN UP \n  \nWomen’s Circle – HEALING IN SISTERHOOD \nDATE/TIME: Saturday\, May 30th\, 6-8:30 pm \n  \nDESCRIPTION: \nJoin us for an evening of deep connection & healing through the sacred medicine of sisterhood! \nThe Divine Feminine is a POWERFUL force. When women gather together\, something magical happens… We soften & find a deeper\, authentic connection within ourselves! Sisterhood reminds us that we are unconditionally loved\, supported & seen! We remember that we are allowed to embody our truest selves unapologetically & that we can take up space with confidence! \nWe are all at different stages in our life\, you are honored & wanted at any & all stages! This circle is a celebration of YOU! \nTogether\, we will journey through a variety of rituals aimed to empower\, nurture\, witness\, and pour love into each sister who arrives. Let’s gather to honor the divine feminine & the power of sisterhood! \n  \nThis is a donation-based event with a recommended donation of $30 to support your facilitator. Donate what you can! \n  \nPayment: \n\nPaypal/Venmo/Cashapp: @ Sierragrishaber\nZelle: Sierragrish26@yahoo.com\nCash in person\n\n  \nWhat to Bring: \n\nWater\nAn item to place on the altar (optional)\nJournal & pen\nWear clothing that empowers you\n\n[/vc_column_text][/vc_column][/vc_row][vc_row][vc_column][vc_column_text] \n\n  \n\n  \n\n  \n\n  \n\n \n\n  \n\n[/vc_column_text][/vc_column][/vc_row]
URL:https://shaktichandra.com/event/womens-circle-healing-in-sisterhood/
LOCATION:Shala Living Yoga\, 412 W Boone Ave\, Spokane\, WA\, 99207\, United States
CATEGORIES:Women's Circle
ATTACH;FMTTYPE=image/jpeg:https://shaktichandra.com/wp-content/uploads/2026/04/womens-circle-healing-in-sisterhood-1-570-737.jpg
ORGANIZER;CN="Sierra Grishaber":MAILTO:info@shaktichandra.com
END:VEVENT
END:VCALENDAR